BEGIN:VCALENDAR
VERSION:2.0
PRODID:-//Todos Pintamos contra el Bullying - ECPv6.15.20//NONSGML v1.0//EN
CALSCALE:GREGORIAN
METHOD:PUBLISH
X-ORIGINAL-URL:https://todospintamoscontraelbullying.com
X-WR-CALDESC:Eventos para Todos Pintamos contra el Bullying
REFRESH-INTERVAL;VALUE=DURATION:PT1H
X-Robots-Tag:noindex
X-PUBLISHED-TTL:PT1H
BEGIN:VTIMEZONE
TZID:Europe/Madrid
BEGIN:DAYLIGHT
TZOFFSETFROM:+0100
TZOFFSETTO:+0200
TZNAME:CEST
DTSTART:20240331T010000
END:DAYLIGHT
BEGIN:STANDARD
TZOFFSETFROM:+0200
TZOFFSETTO:+0100
TZNAME:CET
DTSTART:20241027T010000
END:STANDARD
BEGIN:DAYLIGHT
TZOFFSETFROM:+0100
TZOFFSETTO:+0200
TZNAME:CEST
DTSTART:20250330T010000
END:DAYLIGHT
BEGIN:STANDARD
TZOFFSETFROM:+0200
TZOFFSETTO:+0100
TZNAME:CET
DTSTART:20251026T010000
END:STANDARD
BEGIN:DAYLIGHT
TZOFFSETFROM:+0100
TZOFFSETTO:+0200
TZNAME:CEST
DTSTART:20260329T010000
END:DAYLIGHT
BEGIN:STANDARD
TZOFFSETFROM:+0200
TZOFFSETTO:+0100
TZNAME:CET
DTSTART:20261025T010000
END:STANDARD
END:VTIMEZONE
BEGIN:VEVENT
DTSTART;TZID=Europe/Madrid:20250411T153000
DTEND;TZID=Europe/Madrid:20250610T043000
DTSTAMP:20260421T164641
CREATED:20250520T110012Z
LAST-MODIFIED:20260417T125116Z
UID:3936-1744385400-1749529800@todospintamoscontraelbullying.com
SUMMARY:Sesión de Sensibilización y Prevención contra el Bullying (1º\, 2º y 3º de Primaria)
DESCRIPTION:Si no consigues ver el formulario de inscripción correctamente\, haz clic aquí o copia el siguiente enlace en tu navegador: https://zoom.us/webinar/register/WN_0vq7HZQ1QwaSUxEXi0-mHQ#/registration
URL:https://todospintamoscontraelbullying.com/event/sesion-de-sensibilizacion-y-prevencion-contra-el-bullying-1o-2o-y-3o-de-primaria-10/
CATEGORIES:Primaria
END:VEVENT
BEGIN:VEVENT
DTSTART;TZID=Europe/Madrid:20250509T090000
DTEND;TZID=Europe/Madrid:20250509T100000
DTSTAMP:20260421T164641
CREATED:20250407T115227Z
LAST-MODIFIED:20260417T125105Z
UID:3783-1746781200-1746784800@todospintamoscontraelbullying.com
SUMMARY:Sesión de Sensibilización y Prevención contra el Bullying (1º\, 2º y 3º de Primaria)
DESCRIPTION:Si no consigues ver el formulario de inscripción correctamente\, haz clic aquí o copia el siguiente enlace en tu navegador: https://zoom.us/webinar/register/WN_8t-l4ubsTueuLZotvmrIRw#/registration
URL:https://todospintamoscontraelbullying.com/event/sesion-de-sensibilizacion-y-prevencion-contra-el-bullying-1o-2o-y-3o-de-primaria-7/
CATEGORIES:Primaria
END:VEVENT
BEGIN:VEVENT
DTSTART;TZID=Europe/Madrid:20250513T100000
DTEND;TZID=Europe/Madrid:20250513T110000
DTSTAMP:20260421T164641
CREATED:20250407T114214Z
LAST-MODIFIED:20260417T125104Z
UID:3774-1747130400-1747134000@todospintamoscontraelbullying.com
SUMMARY:Sesión de Sensibilización y Prevención contra el Bullying (E.S.O.)
DESCRIPTION:Si no consigues ver el formulario de inscripción correctamente\, haz clic aquí o copia el siguiente enlace en tu navegador: https://zoom.us/webinar/register/WN_L-IevJmwQumltiWl0OT3cQ#/registration
URL:https://todospintamoscontraelbullying.com/event/sesion-de-sensibilizacion-y-prevencion-contra-el-bullying-e-s-o-4/
CATEGORIES:ESO
END:VEVENT
BEGIN:VEVENT
DTSTART;TZID=Europe/Madrid:20250513T190000
DTEND;TZID=Europe/Madrid:20250513T203000
DTSTAMP:20260421T164641
CREATED:20250415T091726Z
LAST-MODIFIED:20260417T125111Z
UID:3827-1747162800-1747168200@todospintamoscontraelbullying.com
SUMMARY:Sesión especial contra el Bullying con Eloy Moreno
DESCRIPTION:A raíz de las sesiones dirigidas a estudiantes\, muchas familias nos han pedido herramientas para ayudar y trabajar la problemática del Bullying. \nDe hecho\, 1 de cada 4 estudiantes en España ha sido víctima de Bullying y el 7\,7% de las familias afirma que cree que su hijo ha sido víctima. Por ello\, GIOTTO\, junto con A.E.P.A.E.\, realizará una Sesión especial contra el Bullying\, dirigida a todos los públicos\, el día 13 de MAYO\, a las 19:00 h (GMT). \nEsta sesión contará con la participación de ELOY MORENO\, escritor y autor de "Invisible" y "Redes". \nLa sesión será completamente gratuita y se retransmitirá en directo vía ZOOM. El objetivo es ofrecer herramientas para ayudar a las personas a trabajar desde casa en la PREVENCIÓN\, DETECCIÓN y ACCIÓN ante todo tipo de situaciones de Acoso Escolar. \nPara aclarar dudas previas o las que te surjan en el momento\, facilitamos una sección de preguntas y respuestas. \n¡Un espacio para hablar y hacer tus preguntas sobre Bullying!\n  \n¡Inscríbete gratis!\nPor favor rellena el siguiente formulario con tus datos. \n \n¡Apúntate a esta sesión especial!
URL:https://todospintamoscontraelbullying.com/event/sesion-especial-contra-el-bullying-con-eloy-moreno/
CATEGORIES:Especial
END:VEVENT
BEGIN:VEVENT
DTSTART;TZID=Europe/Madrid:20250515T153000
DTEND;TZID=Europe/Madrid:20250515T163000
DTSTAMP:20260421T164641
CREATED:20250407T115526Z
LAST-MODIFIED:20260417T125106Z
UID:3787-1747323000-1747326600@todospintamoscontraelbullying.com
SUMMARY:Sesión de Sensibilización y Prevención contra el Bullying (1º\, 2º y 3º de Primaria)
DESCRIPTION:Si no consigues ver el formulario de inscripción correctamente\, haz clic aquí o copia el siguiente enlace en tu navegador: https://zoom.us/webinar/register/WN_7QSB-HtFTEO9Af-NhNAm5g#/registration
URL:https://todospintamoscontraelbullying.com/event/sesion-de-sensibilizacion-y-prevencion-contra-el-bullying-1o-2o-y-3o-de-primaria-8/
CATEGORIES:Primaria
END:VEVENT
BEGIN:VEVENT
DTSTART;TZID=Europe/Madrid:20250520T103000
DTEND;TZID=Europe/Madrid:20250520T113000
DTSTAMP:20260421T164641
CREATED:20250407T115805Z
LAST-MODIFIED:20260417T125107Z
UID:3791-1747737000-1747740600@todospintamoscontraelbullying.com
SUMMARY:Sesión de Sensibilización y Prevención contra el Bullying (4º\, 5º y 6º de Primaria)
DESCRIPTION:Si no consigues ver el formulario de inscripción correctamente\, haz clic aquí o copia el siguiente enlace en tu navegador: https://zoom.us/webinar/register/WN_LloSu8XjTtyWwF6TR16ZFg#/registration
URL:https://todospintamoscontraelbullying.com/event/sesion-de-sensibilizacion-y-prevencion-contra-el-bullying-4o-5o-y-6o-de-primaria-8/
CATEGORIES:Primaria
END:VEVENT
BEGIN:VEVENT
DTSTART;TZID=Europe/Madrid:20250521T173000
DTEND;TZID=Europe/Madrid:20250521T183000
DTSTAMP:20260421T164641
CREATED:20250430T164911Z
LAST-MODIFIED:20260417T125112Z
UID:3859-1747848600-1747852200@todospintamoscontraelbullying.com
SUMMARY:Sesión de Sensibilización contra el Bullying para docentes de infantil
DESCRIPTION:A raíz de las sesiones dirigidas a estudiantes del Plan de Sensibilización\, algunos docentes nos han pedido herramientas específicas para profundizar en la problemática del Bullying en las aulas. \nPara ayudarles en su labor educativa\, hemos preparado sesiones específicas para docentes donde se trabaja la temática en distintas perspectivas con estrategias y recursos para detectar\, prevenir y actuar ante el Bullying. \nPor ello\, GIOTTO\, junto con A.E.P.A.E.\, realizará una Sesión especial contra el Bullying dirigida a docentes de infantil\, el día miércoles 21 de MAYO\, a las 17:30 h (CET). \nLa sesión será completamente gratuita y se retransmitirá en directo vía ZOOM. Para aclarar dudas previas o las que te surjan en el momento\, facilitamos una sección de preguntas y respuestas. \n¡Un espacio para hablar y hacer tus preguntas sobre Bullying!\n  \n¡Inscríbete gratis!\nPor favor rellena el siguiente formulario con tus datos. \n \nConoce a la especialista que va a participar en la sesión:\n\nELENA GARCÍA\nPsicóloga especializada en Acoso Escolar para docentes y miembro del equipo de A.E.P.A.E.
URL:https://todospintamoscontraelbullying.com/event/sesion-de-sensibilizacion-contra-el-bullying-para-docentes-de-infantil-2/
CATEGORIES:Especial
END:VEVENT
BEGIN:VEVENT
DTSTART;TZID=Europe/Madrid:20250522T100000
DTEND;TZID=Europe/Madrid:20250522T110000
DTSTAMP:20260421T164641
CREATED:20250407T120121Z
LAST-MODIFIED:20260417T125109Z
UID:3795-1747908000-1747911600@todospintamoscontraelbullying.com
SUMMARY:Sesión de Sensibilización y Prevención contra el Bullying (E.S.O.)
DESCRIPTION:Si no consigues ver el formulario de inscripción correctamente\, haz clic aquí o copia el siguiente enlace en tu navegador: https://zoom.us/webinar/register/WN_iSpFyyU-SaC9s7gzcJUVgg#/registration
URL:https://todospintamoscontraelbullying.com/event/sesion-de-sensibilizacion-y-prevencion-contra-el-bullying-e-s-o-5/
CATEGORIES:ESO
END:VEVENT
BEGIN:VEVENT
DTSTART;TZID=Europe/Madrid:20250527T100000
DTEND;TZID=Europe/Madrid:20250527T110000
DTSTAMP:20260421T164641
CREATED:20250509T184939Z
LAST-MODIFIED:20260417T125115Z
UID:3894-1748340000-1748343600@todospintamoscontraelbullying.com
SUMMARY:Sesión especial contra el Bullying para Alumnos de ESO con Eloy Moreno
DESCRIPTION:En combinación con las sesiones dirigidas a alumnos de nuestro Plan de Sensibilización\, hemos preparado nuevas sesiones con invitados especiales\, como figuras mediáticas y embajadores\, que compartirán sus experiencias y consejos sobre el Bullying. \nPor ello\, GIOTTO\, junto con A.E.P.A.E.\, realizará una Sesión especial contra el Bullying dirigida a alumnos de ESO\, el día martes 27 de MAYO\, a las 10:00 h (GMT). \nEn ella\, participará también el escritor y autor de libros como "Invisible" y "Redes" referentes al Bullying\, Eloy Moreno. Además\, el invitado especial responderá a todas las preguntas de los asistentes y contará su experiencia escribiendo libros que visibilizan el acoso escolar.  \nLa sesión será completamente gratuita y se retransmitirá en directo vía ZOOM. El objetivo de esta sesión especial es el de ofrecer herramientas para ayudar a los alumnos y a los docentes en la PREVENCIÓN\, DETECCIÓN y ACCIÓN ante las situaciones de Acoso Escolar.  \nPara aclarar dudas previas\, facilitamos una sección en el formulario de inscripción en la que puedes dejar tus preguntas para que se respondan a lo largo de la sesión. \n¡Un espacio para hablar y hacer tus preguntas sobre Bullying!\n  \nInscríbete gratis!\nSi no consigues ver el formulario de inscripción correctamente\, haz clic aquí o copia el siguiente enlace en tu navegador: https://zoom.us/webinar/register/WN_qNEouQ2qTfa-_dGWiRPfXA#/registration \nConoce a los especialistas que van a participar en la sesión:\nEnrique Pérez Carrillo de la CuevaPresidente de A.E.P.A.E yespecialista en autodefensa \nJorge RendónEspecialista en ciberacoso escolar \nCon la participación de un invitado especial:\nELOY MORENO\nEscritor y autor de libros como "Invisible" y "Redes" referentes al Bullying
URL:https://todospintamoscontraelbullying.com/event/sesion-especial-contra-el-bullying-para-alumnos-de-eso-con-eloy-moreno/
CATEGORIES:Especial
END:VEVENT
BEGIN:VEVENT
DTSTART;TZID=Europe/Madrid:20250528T183000
DTEND;TZID=Europe/Madrid:20250528T193000
DTSTAMP:20260421T164641
CREATED:20250430T172845Z
LAST-MODIFIED:20260417T125113Z
UID:3864-1748457000-1748460600@todospintamoscontraelbullying.com
SUMMARY:Sesión de Sensibilización contra el Bullying para docentes de primaria
DESCRIPTION:A raíz de las sesiones dirigidas a estudiantes del Plan de Sensibilización\, algunos docentes nos han pedido herramientas específicas para profundizar en la problemática del Bullying en las aulas. \nPara ayudarles en su labor educativa\, hemos preparado sesiones específicas para docentes donde se trabaja la temática en distintas perspectivas con estrategias y recursos para detectar\, prevenir y actuar ante el Bullying. \nPor ello\, GIOTTO\, junto con A.E.P.A.E.\, realizará una Sesión especial contra el Bullying dirigida a docentes de primaria\, el día miércoles 28 de MAYO\, a las 18:30 h (CET). \nLa sesión será completamente gratuita y se retransmitirá en directo vía ZOOM. Para aclarar dudas previas o las que te surjan en el momento\, facilitamos una sección de preguntas y respuestas. \n¡Un espacio para hablar y hacer tus preguntas sobre Bullying!\n  \n¡Inscríbete gratis!\nPor favor rellena el siguiente formulario con tus datos. \n \nConoce a la especialista que va a participar en la sesión:\n\nELENA GARCÍA\nPsicóloga especializada en Acoso Escolar para docentes y miembro del equipo de A.E.P.A.E.
URL:https://todospintamoscontraelbullying.com/event/sesion-de-sensibilizacion-contra-el-bullying-para-docentes-de-primaria-2/
CATEGORIES:Especial
END:VEVENT
BEGIN:VEVENT
DTSTART;TZID=Europe/Madrid:20250529T183000
DTEND;TZID=Europe/Madrid:20250529T193000
DTSTAMP:20260421T164641
CREATED:20250430T174956Z
LAST-MODIFIED:20260417T125114Z
UID:3870-1748543400-1748547000@todospintamoscontraelbullying.com
SUMMARY:Sesión de Sensibilización contra el Bullying para docentes de E.S.O.
DESCRIPTION:A raíz de las sesiones dirigidas a estudiantes del Plan de Sensibilización\, algunos docentes nos han pedido herramientas específicas para profundizar en la problemática del Bullying en las aulas. \nPara ayudarles en su labor educativa\, hemos preparado sesiones específicas para docentes donde se trabaja la temática en distintas perspectivas con estrategias y recursos para detectar\, prevenir y actuar ante el Bullying. \nPor ello\, GIOTTO\, junto con A.E.P.A.E.\, realizará una Sesión especial contra el Bullying dirigida a docentes de E.S.O.\, el día jueves 29 de MAYO\, a las 18:30 h (CET). \nLa sesión será completamente gratuita y se retransmitirá en directo vía ZOOM. Para aclarar dudas previas o las que te surjan en el momento\, facilitamos una sección de preguntas y respuestas. \n¡Un espacio para hablar y hacer tus preguntas sobre Bullying!\n  \n¡Inscríbete gratis!\nPor favor rellena el siguiente formulario con tus datos. \n \nConoce a la especialista que va a participar en la sesión:\n\nELENA GARCÍA\nPsicóloga especializada en Acoso Escolar para docentes y miembro del equipo de A.E.P.A.E.
URL:https://todospintamoscontraelbullying.com/event/sesion-de-sensibilizacion-contra-el-bullying-para-docentes-de-e-s-o/
CATEGORIES:Especial
END:VEVENT
BEGIN:VEVENT
DTSTART;TZID=Europe/Madrid:20250530T100000
DTEND;TZID=Europe/Madrid:20250530T110000
DTSTAMP:20260421T164641
CREATED:20250407T120630Z
LAST-MODIFIED:20260417T125110Z
UID:3803-1748599200-1748602800@todospintamoscontraelbullying.com
SUMMARY:Sesión de Sensibilización y Prevención contra el Bullying (1º\, 2º y 3º de Primaria)
DESCRIPTION:Si no consigues ver el formulario de inscripción correctamente\, haz clic aquí o copia el siguiente enlace en tu navegador: https://zoom.us/webinar/register/WN_a7X3PdRiQtKC7ehIA2yG5A#/registration
URL:https://todospintamoscontraelbullying.com/event/sesion-de-sensibilizacion-y-prevencion-contra-el-bullying-1o-2o-y-3o-de-primaria-9/
CATEGORIES:Primaria
END:VEVENT
END:VCALENDAR