BEGIN:VCALENDAR
VERSION:2.0
PRODID:-//Todos Pintamos contra el Bullying - ECPv6.15.20//NONSGML v1.0//EN
CALSCALE:GREGORIAN
METHOD:PUBLISH
X-ORIGINAL-URL:https://todospintamoscontraelbullying.com
X-WR-CALDESC:Eventos para Todos Pintamos contra el Bullying
REFRESH-INTERVAL;VALUE=DURATION:PT1H
X-Robots-Tag:noindex
X-PUBLISHED-TTL:PT1H
BEGIN:VTIMEZONE
TZID:Europe/Madrid
BEGIN:DAYLIGHT
TZOFFSETFROM:+0100
TZOFFSETTO:+0200
TZNAME:CEST
DTSTART:20240331T010000
END:DAYLIGHT
BEGIN:STANDARD
TZOFFSETFROM:+0200
TZOFFSETTO:+0100
TZNAME:CET
DTSTART:20241027T010000
END:STANDARD
BEGIN:DAYLIGHT
TZOFFSETFROM:+0100
TZOFFSETTO:+0200
TZNAME:CEST
DTSTART:20250330T010000
END:DAYLIGHT
BEGIN:STANDARD
TZOFFSETFROM:+0200
TZOFFSETTO:+0100
TZNAME:CET
DTSTART:20251026T010000
END:STANDARD
BEGIN:DAYLIGHT
TZOFFSETFROM:+0100
TZOFFSETTO:+0200
TZNAME:CEST
DTSTART:20260329T010000
END:DAYLIGHT
BEGIN:STANDARD
TZOFFSETFROM:+0200
TZOFFSETTO:+0100
TZNAME:CET
DTSTART:20261025T010000
END:STANDARD
END:VTIMEZONE
BEGIN:VEVENT
DTSTART;TZID=Europe/Madrid:20250311T120000
DTEND;TZID=Europe/Madrid:20250311T130000
DTSTAMP:20260421T193233
CREATED:20250222T091357Z
LAST-MODIFIED:20260417T125051Z
UID:2605-1741694400-1741698000@todospintamoscontraelbullying.com
SUMMARY:Sesión de Sensibilización y Prevención contra el Bullying (4º\, 5º y 6º de Primaria)
DESCRIPTION:Si no consigues ver el formulario de inscripción correctamente\, haz clic aquí o copia el siguiente enlace en tu navegador: https://zoom.us/webinar/register/WN_47LsA9ikTpKRAUT4gHsHzA#/registration
URL:https://todospintamoscontraelbullying.com/event/sesion-de-sensibilizacion-y-prevencion-contra-el-bullying-4o-5o-y-6o-de-primaria-1/
CATEGORIES:Finalizada
END:VEVENT
BEGIN:VEVENT
DTSTART;TZID=Europe/Madrid:20250312T190000
DTEND;TZID=Europe/Madrid:20250312T193000
DTSTAMP:20260421T193233
CREATED:20250305T120617Z
LAST-MODIFIED:20260417T125053Z
UID:2967-1741806000-1741807800@todospintamoscontraelbullying.com
SUMMARY:Evento de Sensibilización contra el Bullying especial Ciberacoso en las aulas
DESCRIPTION:A raíz de las sesiones dirigidas a estudiantes\, muchas familias nos han pedido herramientas para ayudar y trabajar la problemática del Bullying.De hecho\, 1 de cada 4 estudiantes en España ha sido víctima de Bullying y el 7\,7% de las familias afirma que cree que su hijo ha sido víctima. Por ello\, GIOTTO\, junto con A.E.P.A.E.\, realizará una Sesión especial contra el Bullying dirigida a madres\, padres y tutores\, el día 12 de MARZO\, a las 19:00h (GMT). \nEsta sesión tratará principalmente sobre ciberacoso\, ya que es una problemática con la que se están encontrando muchas familias. \nLa sesión será completamente gratuita y se retransmitirá en directo vía ZOOM\, el objetivo es ofrecer herramientas para ayudar a las personas a trabajar desde casa en la PREVENCIÓN\, DETECCIÓN y ACCIÓN ante este tipo de situaciones de Ciber acoso. Para aclarar dudas previas o las que te surjan en el momento\, facilitamos una sección de preguntas y respuestas. \n¡Un espacio para hablar y hacer tus preguntas sobre Bullying!\n  \nInscríbete gratis!\nPor favor rellena el siguiente formulario con tus datos. \n \nConoce a los especialistas que van a participar en la sesión:\nEnrique Pérez Carrillo de la CuevaPresidente de A.E.P.A.E yespecialista en autodefensa \nJorge RendónEspecialista en ciberacoso escolar \nFuen GarcíaPsicóloga especializada en familias \nCon la participación especial de dos de nuestros embajadores:\nPOL CALVOIntérprete de la canción  Aquí Pintamos Todosy Ganador de La Voz Kids 2022 \n\nNATALIA BARONEIntérprete de la canción Aquí Pintamos Todosy Finalista de Idol Kids 2022
URL:https://todospintamoscontraelbullying.com/event/sesion-especial-contra-ciberacoso/
CATEGORIES:Especial
END:VEVENT
BEGIN:VEVENT
DTSTART;TZID=Europe/Madrid:20250313T093000
DTEND;TZID=Europe/Madrid:20250313T103000
DTSTAMP:20260421T193233
CREATED:20250222T084817Z
LAST-MODIFIED:20260417T125043Z
UID:2573-1741858200-1741861800@todospintamoscontraelbullying.com
SUMMARY:Sesión de Sensibilización y Prevención contra el Bullying (E.S.O.)
DESCRIPTION:Si no consigues ver el formulario de inscripción correctamente\, haz clic aquí o copia el siguiente enlace en tu navegador: https://zoom.us/webinar/register/WN_JgxPJaAUS1W8TS-lZGBhAA#/registration
URL:https://todospintamoscontraelbullying.com/event/sesion-de-sensibilizacion-y-prevencion-contra-el-bullying-eso-3/
CATEGORIES:Finalizada
END:VEVENT
BEGIN:VEVENT
DTSTART;TZID=Europe/Madrid:20250314T100000
DTEND;TZID=Europe/Madrid:20250314T110000
DTSTAMP:20260421T193233
CREATED:20250222T085742Z
LAST-MODIFIED:20260417T125049Z
UID:2590-1741946400-1741950000@todospintamoscontraelbullying.com
SUMMARY:Sesión de Sensibilización y Prevención contra el Bullying (1º\, 2º y 3º de Primaria)
DESCRIPTION:Si no consigues ver el formulario de inscripción correctamente\, haz clic aquí o copia el siguiente enlace en tu navegador: https://zoom.us/webinar/register/WN_BXzkn92jTl-HSfguMQXDog#/registration
URL:https://todospintamoscontraelbullying.com/event/sesion-de-sensibilizacion-y-prevencion-contra-el-bullying-1o-2o-y-3o-de-primaria-2/
CATEGORIES:Finalizada
END:VEVENT
BEGIN:VEVENT
DTSTART;TZID=Europe/Madrid:20250318T100000
DTEND;TZID=Europe/Madrid:20250318T110000
DTSTAMP:20260421T193233
CREATED:20250222T084954Z
LAST-MODIFIED:20260417T125044Z
UID:2574-1742292000-1742295600@todospintamoscontraelbullying.com
SUMMARY:Sesión de Sensibilización y Prevención contra el Bullying (E.S.O.)
DESCRIPTION:Si no consigues ver el formulario de inscripción correctamente\, haz clic aquí o copia el siguiente enlace en tu navegador: https://zoom.us/webinar/register/WN_c9fEQhM-TnShTrIw27e4uA#/registration
URL:https://todospintamoscontraelbullying.com/event/sesion-de-sensibilizacion-y-prevencion-contra-el-bullying-eso-4/
CATEGORIES:Finalizada
END:VEVENT
BEGIN:VEVENT
DTSTART;TZID=Europe/Madrid:20250325T100000
DTEND;TZID=Europe/Madrid:20250325T110000
DTSTAMP:20260421T193233
CREATED:20250222T091505Z
LAST-MODIFIED:20260417T125052Z
UID:2606-1742896800-1742900400@todospintamoscontraelbullying.com
SUMMARY:Sesión de Sensibilización y Prevención contra el Bullying (4º\, 5º y 6º de Primaria)
DESCRIPTION:Si no consigues ver el formulario de inscripción correctamente\, haz clic aquí o copia el siguiente enlace en tu navegador: https://zoom.us/webinar/register/WN_1UMTuZZoRuKR1sXY5xvkkQ#/registration
URL:https://todospintamoscontraelbullying.com/event/sesion-de-sensibilizacion-y-prevencion-contra-el-bullying-4o-5o-y-6o-de-primaria-2/
CATEGORIES:Primaria
END:VEVENT
BEGIN:VEVENT
DTSTART;TZID=Europe/Madrid:20250325T130000
DTEND;TZID=Europe/Madrid:20250325T143000
DTSTAMP:20260421T193233
CREATED:20250318T174152Z
LAST-MODIFIED:20260417T125059Z
UID:3545-1742907600-1742913000@todospintamoscontraelbullying.com
SUMMARY:Sesión de Sensibilización contra el Bullying para docentes de primaria
DESCRIPTION:A raíz de las sesiones dirigidas a estudiantes del Plan de Sensibilización\, algunos docentes nos han pedido herramientas específicas para profundizar en la problemática del Bullying en las aulas. \nPara ayudarles en su labor educativa\, hemos preparado sesiones específicas para docentes donde se trabaja la temática en distintas perspectivas con estrategias y recursos para detectar\, prevenir y actuar ante el Bullying. \nPor ello\, GIOTTO\, junto con A.E.P.A.E.\, realizará una Sesión especial contra el Bullying dirigida a docentes de primaria\, el día martes 25 de MARZO\, a las 13:00 h (CET). \nLa sesión será completamente gratuita y se retransmitirá en directo vía ZOOM. Para aclarar dudas previas o las que te surjan en el momento\, facilitamos una sección de preguntas y respuestas. \n¡Un espacio para hablar y hacer tus preguntas sobre Bullying!\n  \n¡Inscríbete gratis!\nPor favor rellena el siguiente formulario con tus datos. \n \nConoce a la especialista que va a participar en la sesión:\n\nELENA GARCÍAPsicóloga especializada en Acoso Escolar para docentes y miembro del equipo de A.E.P.A.E.
URL:https://todospintamoscontraelbullying.com/event/sesion-de-sensibilizacion-contra-el-bullying-para-docentes-de-primaria/
CATEGORIES:Especial
END:VEVENT
BEGIN:VEVENT
DTSTART;TZID=Europe/Madrid:20250326T113000
DTEND;TZID=Europe/Madrid:20250326T123000
DTSTAMP:20260421T193233
CREATED:20250222T085905Z
LAST-MODIFIED:20260417T125050Z
UID:2591-1742988600-1742992200@todospintamoscontraelbullying.com
SUMMARY:Sesión de Sensibilización y Prevención contra el Bullying (1º\, 2º y 3º de Primaria)
DESCRIPTION:Si no consigues ver el formulario de inscripción correctamente\, haz clic aquí o copia el siguiente enlace en tu navegador: https://zoom.us/webinar/register/WN_noVt7EnmRd-O1mGTqy-ENQ#/registration
URL:https://todospintamoscontraelbullying.com/event/sesion-de-sensibilizacion-y-prevencion-contra-el-bullying-1o-2o-y-3o-de-primaria-3/
CATEGORIES:Primaria
END:VEVENT
BEGIN:VEVENT
DTSTART;TZID=Europe/Madrid:20250326T150000
DTEND;TZID=Europe/Madrid:20250326T163000
DTSTAMP:20260421T193233
CREATED:20250319T112417Z
LAST-MODIFIED:20260417T125100Z
UID:3562-1743001200-1743006600@todospintamoscontraelbullying.com
SUMMARY:Sesión de Sensibilización contra el Bullying para docentes de ESO
DESCRIPTION:A raíz de las sesiones dirigidas a estudiantes del Plan de Sensibilización\, algunos docentes nos han pedido herramientas específicas para profundizar en la problemática del Bullying en las aulas. \nPara ayudarles en su labor educativa\, hemos preparado sesiones específicas para docentes donde se trabaja la temática en distintas perspectivas con estrategias y recursos para detectar\, prevenir y actuar ante el Bullying. \nPor ello\, GIOTTO\, junto con A.E.P.A.E.\, realizará una Sesión especial contra el Bullying dirigida a docentes de ESO\, el día miércoles 26 de MARZO\, a las 15:00 h (CET). \nLa sesión será completamente gratuita y se retransmitirá en directo vía ZOOM. Para aclarar dudas previas o las que te surjan en el momento\, facilitamos una sección de preguntas y respuestas. \n¡Un espacio para hablar y hacer tus preguntas sobre Bullying!\n  \n¡Inscríbete gratis!\nPor favor rellena el siguiente formulario con tus datos. \n \nConoce a la especialista que va a participar en la sesión:\n\nELENA GARCÍA\nPsicóloga especializada en Acoso Escolar para docentes y miembro del equipo de A.E.P.A.E.
URL:https://todospintamoscontraelbullying.com/event/sesion-de-sensibilizacion-contra-el-bullying-para-docentes-de-eso/
CATEGORIES:Especial
END:VEVENT
BEGIN:VEVENT
DTSTART;TZID=Europe/Madrid:20250327T130000
DTEND;TZID=Europe/Madrid:20250327T143000
DTSTAMP:20260421T193233
CREATED:20250319T114920Z
LAST-MODIFIED:20260417T125101Z
UID:3567-1743080400-1743085800@todospintamoscontraelbullying.com
SUMMARY:Sesión de Sensibilización contra el Bullying para docentes de infantil
DESCRIPTION:A raíz de las sesiones dirigidas a estudiantes del Plan de Sensibilización\, algunos docentes nos han pedido herramientas específicas para profundizar en la problemática del Bullying en las aulas. \nPara ayudarles en su labor educativa\, hemos preparado sesiones específicas para docentes donde se trabaja la temática en distintas perspectivas con estrategias y recursos para detectar\, prevenir y actuar ante el Bullying. \nPor ello\, GIOTTO\, junto con A.E.P.A.E.\, realizará una Sesión especial contra el Bullying dirigida a docentes de primaria\, el día jueves 27 de MARZO\, a las 13:00 h (CET). \nLa sesión será completamente gratuita y se retransmitirá en directo vía ZOOM. Para aclarar dudas previas o las que te surjan en el momento\, facilitamos una sección de preguntas y respuestas. \n¡Un espacio para hablar y hacer tus preguntas sobre Bullying!\n  \n¡Inscríbete gratis!\nPor favor rellena el siguiente formulario con tus datos. \n \nConoce a la especialista que va a participar en la sesión:\n\nELENA GARCÍA\nPsicóloga especializada en Acoso Escolar para docentes y miembro del equipo de A.E.P.A.E.
URL:https://todospintamoscontraelbullying.com/event/sesion-de-sensibilizacion-contra-el-bullying-para-docentes-de-infantil/
CATEGORIES:Especial
END:VEVENT
BEGIN:VEVENT
DTSTART;TZID=Europe/Madrid:20250331T100000
DTEND;TZID=Europe/Madrid:20250331T120000
DTSTAMP:20260421T193233
CREATED:20250322T180617Z
LAST-MODIFIED:20260417T125102Z
UID:3578-1743415200-1743422400@todospintamoscontraelbullying.com
SUMMARY:Sesión de Sensibilización y Prevención contra el Bullying dirigida a alumnos de Primaria
DESCRIPTION:En combinación con las sesiones dirigidas a alumnos de nuestro Plan de Sensibilización\, hemos preparado nuevas sesiones con invitados especiales\, como figuras mediáticas y embajadores\, que compartirán sus experiencias y consejos sobre el Bullying. \nPor ello\, GIOTTO\, junto con A.E.P.A.E.\, realizará una Sesión especial contra el Bullying dirigida a alumnos de Educación Primaria\, el lunes día 31 de MARZO\, a las 10:00h (GMT). \nEn ella\, participarán también los tres embajadores del proyecto: Nadia Vilaplana\, Pol Calvo y Natalia Barone. \nLa sesión será completamente gratuita y se retransmitirá en directo vía ZOOM. El objetivo de esta sesión especial es el de ofrecer herramientas para ayudar a los alumnos y a los docentes en la PREVENCIÓN\, DETECCIÓN y ACCIÓN ante las situaciones de Acoso Escolar. A su vez\, los tres embajadores del proyecto participarán contando sus propias experiencias y respondiendo a las preguntas de los asistentes. \nPara aclarar dudas previas\, facilitamos una sección en el formulario de inscripción en la que puedes dejar tus preguntas para que se respondan a lo largo de la sesión. \n¡Un espacio para hablar y hacer tus preguntas sobre Bullying!\n  \nInscríbete gratis!\nSi no consigues ver el formulario de inscripción correctamente\, haz clic aquí o copia el siguiente enlace en tu navegador: https://zoom.us/webinar/register/WN__cV-nEruT-myH1A7in4SIg#/registration \nConoce a los especialistas que van a participar en la sesión:\nEnrique Pérez Carrillo de la CuevaPresidente de A.E.P.A.E yespecialista en autodefensa \nAlba MoraledaPsicóloga especializada en terapias artísticas y creativas \nCon la participación especial de tres de nuestros embajadores:\nNADIA VILAPLANA\nActriz\, cantante\, apasionada del baile y creadora de contenido \nPOL CALVO\nIntérprete de la canción  Aquí Pintamos Todos\ny Ganador de La Voz Kids 2022 \n\nNATALIA BARONEIntérprete de la canción Aquí Pintamos Todosy Finalista de Idol Kids 2022
URL:https://todospintamoscontraelbullying.com/event/sesion-de-sensibilizacion-y-prevencion-contra-el-bullying-dirigida-a-alumnos-de-primaria/
CATEGORIES:Finalizada
END:VEVENT
END:VCALENDAR